BEGIN:VCALENDAR
VERSION:2.0
PRODID:-//WC4WD - Wisconsin Coalition of Four Wheel Drives - ECPv6.15.20//NONSGML v1.0//EN
CALSCALE:GREGORIAN
METHOD:PUBLISH
X-WR-CALNAME:WC4WD - Wisconsin Coalition of Four Wheel Drives
X-ORIGINAL-URL:https://www.wc4wd.com
X-WR-CALDESC:Events for WC4WD - Wisconsin Coalition of Four Wheel Drives
REFRESH-INTERVAL;VALUE=DURATION:PT1H
X-Robots-Tag:noindex
X-PUBLISHED-TTL:PT1H
BEGIN:VTIMEZONE
TZID:America/Chicago
BEGIN:DAYLIGHT
TZOFFSETFROM:-0600
TZOFFSETTO:-0500
TZNAME:CDT
DTSTART:20200308T080000
END:DAYLIGHT
BEGIN:STANDARD
TZOFFSETFROM:-0500
TZOFFSETTO:-0600
TZNAME:CST
DTSTART:20201101T070000
END:STANDARD
BEGIN:DAYLIGHT
TZOFFSETFROM:-0600
TZOFFSETTO:-0500
TZNAME:CDT
DTSTART:20210314T080000
END:DAYLIGHT
BEGIN:STANDARD
TZOFFSETFROM:-0500
TZOFFSETTO:-0600
TZNAME:CST
DTSTART:20211107T070000
END:STANDARD
BEGIN:DAYLIGHT
TZOFFSETFROM:-0600
TZOFFSETTO:-0500
TZNAME:CDT
DTSTART:20220313T080000
END:DAYLIGHT
BEGIN:STANDARD
TZOFFSETFROM:-0500
TZOFFSETTO:-0600
TZNAME:CST
DTSTART:20221106T070000
END:STANDARD
BEGIN:DAYLIGHT
TZOFFSETFROM:-0600
TZOFFSETTO:-0500
TZNAME:CDT
DTSTART:20230312T080000
END:DAYLIGHT
BEGIN:STANDARD
TZOFFSETFROM:-0500
TZOFFSETTO:-0600
TZNAME:CST
DTSTART:20231105T070000
END:STANDARD
END:VTIMEZONE
BEGIN:VEVENT
DTSTART;TZID=America/Chicago:20220409T160000
DTEND;TZID=America/Chicago:20220409T170000
DTSTAMP:20260419T090320
CREATED:20220217T173836Z
LAST-MODIFIED:20220226T181237Z
UID:9505-1649520000-1649523600@www.wc4wd.com
SUMMARY:WC4WD Spring General Membership Meeting
DESCRIPTION:This meeting is in conjunction with the WATVA Convention April 8th – 10th.\nPlease use link below to register for Convention Workshops and meals.\nhttps://www.eventbrite.com/…/wisconsin-atv-utv… \nPlease Contact the Holiday inn Convention Center to Book room if needed:\nCheck availability\nAddress: 1001 Amber Ave\, Stevens Point\, WI 54482\nPhone: (715) 344-0200 \nFind Agenda here\n \nMicrosoft Teams meeting Available:\nJoin on your computer or mobile app\nClick here to join the meeting \nOr call in (audio only)\n+1 608-665-1082\,\,964082820#   United States\, Madison\nPhone Conference ID: 964 082 820#\nFind a local number | Reset PIN \n 
URL:https://www.wc4wd.com/event/wc4wd-spring-general-membership-meeting/
LOCATION:Holiday Inn – Stevens Point\, WI\, 1001 Amber Avenueven\, Stevens Point\, WI\, 54482
ATTACH;FMTTYPE=image/png:https://www.wc4wd.com/wp-content/uploads/2020/01/cropped-WC4WD2020LOGO.png
ORGANIZER;CN="WC4WD - Wisconsin Coalition of Four Wheel Drives":MAILTO:admin@wc4wd.com
END:VEVENT
BEGIN:VEVENT
DTSTART;TZID=America/Chicago:20211218T160000
DTEND;TZID=America/Chicago:20211218T200000
DTSTAMP:20260419T090320
CREATED:20201028T171048Z
LAST-MODIFIED:20211026T175549Z
UID:3698-1639843200-1639857600@www.wc4wd.com
SUMMARY:WC4WD's 2021 Holiday Night Light Ride!
DESCRIPTION:WC4WD Holiday Night Light Ride!\nContinuing the tradition started by Rick Felbab (now retired and living in Maine)\, WC4WD will be hosting this heart warming event for raising food and personal hygiene products for the Sheboygan food pantry’s. \nBring your donations to Holidays and we will load it onto our trailer to deliver to Making Spirits Bright at Evergreen park. Giving Tuesday monetary matching donations can be made HERE \nWe are asking all who plan on attending to RSVP in the ticket link so we can ensure the proper number of police escorts for the Light Parade to evergreen park. \nWe will be decorating our vehicles at 4pm in the parking lot of Holiday’s in Sheboygan\, WI and leaving for the park at 5pm. Return back to Holiday’s for some Holiday Cheer. \nAll WC4WD Members and Non Members WELCOME! We are asking all who plan on attending to RSVP in the link provided to ensure the proper number of Police escort & support for the parade as well as staffing at Holiday’s Pub.
URL:https://www.wc4wd.com/event/2021-holiday-night-light-ride/
LOCATION:Holiday’s Pub – Sheboygan\, WI\, 5533 Superior Avenue\, Sheboygan\, WI\, 53083
ATTACH;FMTTYPE=image/jpeg:https://www.wc4wd.com/wp-content/uploads/2020/10/131401554_1571877473010916_306898340240863305_o.jpg
ORGANIZER;CN="WC4WD - Wisconsin Coalition of Four Wheel Drives":MAILTO:admin@wc4wd.com
END:VEVENT
BEGIN:VEVENT
DTSTART;TZID=America/Chicago:20211002T080000
DTEND;TZID=America/Chicago:20211002T160000
DTSTAMP:20260419T090320
CREATED:20201006T175738Z
LAST-MODIFIED:20210908T225621Z
UID:3374-1633161600-1633190400@www.wc4wd.com
SUMMARY:4th Annual - 2021 Ronnie Buggy Fall Color Ride hosted by WC4WD
DESCRIPTION:  \nJoin WC4WD for our 4th Annual – 2021 Ronnie Buggy Fall Color Ride! \nThis event is open to all makes of 4WD vehicles and is stock friendly with more challenging lines if you wish.\nNon-members Welcome! \n_________________________ \nLocation & Time: We will be meeting at the Lakewood Trailhead parking lot north of Hwy F at 8:00am and leaving for the trail at 9:00am sharp! We will leisurely traverse various USFS roads and MVUM trails while enjoying the fall colors. \nLunch: Bring your own lunch for this event. Don’t forget your lawn chairs! Absolutely no alcohol on the trail! \nWe will return to the meeting area about 4pm. \n_________________________ \n** Note: when registering your RSVP only register the number of rigs you will be bringing.  \nExample: 1 Guest = 1 Rig   /  2 Guests = 2 Rigs \nYou may have as many guests as you have seatbelts for in your rig(s). **
URL:https://www.wc4wd.com/event/2021-4th-annual-ronnie-buggy-fall-color-ride/
LOCATION:Lakewood\, WI\, Lakewood\, WI
ATTACH;FMTTYPE=image/png:https://www.wc4wd.com/wp-content/uploads/2020/10/RonnieBuggyRide.2021.png
END:VEVENT
BEGIN:VEVENT
DTSTART;TZID=America/Chicago:20210919T080000
DTEND;TZID=America/Chicago:20210919T150000
DTSTAMP:20260419T090320
CREATED:20201006T170719Z
LAST-MODIFIED:20210908T182259Z
UID:3354-1632038400-1632063600@www.wc4wd.com
SUMMARY:Annual Cars in Kewaskum Auto Show - 2021
DESCRIPTION:Join us Sunday September 19th\, 2021 for the Cars in Kewaskum Auto Show hosted by Top Fuel Garage!\n** WC4WD membership is not required and all vehicle makes & models are welcome! ** \n_____________________ \nLocation: The event is held downtown Kewaskum – Hwy 45 & 28. We will once again park our rides along the hillside where other classic vehicles are not able to park. We had record breaking attendance last year and hope to once again “Fill the Hill!” and more. \nEntrance Fee: There is a small entrance fee per vehicle as this is car show is a yearly benefit for local families in need. The $10 entrance fee is paid upon arrival to Top Fuel Garage volunteers at the entrance gate. it is a arrive & leave as you wish event so visit the main gate & register when you get here! \nThere were thousands of people in attendance to the show with over 400 vehicles on display in 2020. Kewaskum Fire Department always cooks up some great burgers\, brats and more for charity.  There are multiple raffles available with items from local businesses and many vehicles being shown are for sale. If you plan to stay a while & enjoy the music and atmosphere bring a foldable chair. \nQuestions? — > Visit the Cars in Kewaskum Auto Show Page \n 
URL:https://www.wc4wd.com/event/2021-annual-kewaskum-auto-show/
LOCATION:Kewaskum\, WI\, WI\, 53040
ATTACH;FMTTYPE=image/jpeg:https://www.wc4wd.com/wp-content/uploads/2021/09/Cars-in-Kewaskum-2021.jpg
END:VEVENT
BEGIN:VEVENT
DTSTART;TZID=America/Chicago:20210911T090000
DTEND;TZID=America/Chicago:20210911T160000
DTSTAMP:20260419T090320
CREATED:20210705T192859Z
LAST-MODIFIED:20210818T144308Z
UID:6955-1631350800-1631376000@www.wc4wd.com
SUMMARY:Cranberry Crawl 2021 - Quarry Meadows
DESCRIPTION:Tomah\, WI is cranberry country and 59% of the US cranberry crop is grown in WI. September is traditionally when cranberry farmers begin to harvest their crop so join us for the inaugural Cranberry Crawl at Quarry Meadows off road park! \nLocated in the northern stretches of the Driftless Area of WI\, Quarry Meadows is a reclaimed rock quarry set on 120 acres with limitless potential for fun.  The trail ride will be made up of wooded trails through undulating landscape and rock crawls.  \n** WC4WD Membership Only Event ** \nWC4WD Member Cost: $50 per rig (LogIn for discount) \nNon-Membership Cost: $85 per rig (includes 1 year Individual/Family Membership) \nRig Limit: 50 \nSchedule: \n\n9am – Arrival & Safety Check-In\n \nNoon – Lunch on the trail; pack your coolers & lawn chairs. You are responsible for your lunch & all liquid refreshments. \n4pm – End of Day \n————————– \nTHINGS TO REMEMBER: \n\nDo not contact Quarry Meadows for tickets to this event. This is a private WC4WD Members only event; tickets not sold through Quarry Meadows. \nAll drivers must be a valid WC4WD Member on the day of Cranberry Crawl & your rig must be registered prior to on-site check in.\nYour vehicle must pass a WC4WD safety inspection at the time of on-site registration.  Safety Inspection Checklist\nSaturday lunch will be on the trail; pack your coolers & lawn chairs. You are responsible for your lunch & all liquid refreshments.\nAbsolutely no alcohol allowed on the trail.\n\n~ All Drivers must be WC4WD Members & complete the WC4WD Rig Registration ~ \nCancellation Policy: You may cancel your attendance up to 2 weeks in advance to receive a 100% refund; less than 2 weeks notice there is no refund.  \n————————– \n\n\n>>> Click here for Registration & Tickets <<<
URL:https://www.wc4wd.com/event/quarry-meadows-cranberry-crawl-2021/
LOCATION:Quarry Meadows\, 26033 Hockey Ave\, Tomah\, WI\, 54660
ATTACH;FMTTYPE=image/png:https://www.wc4wd.com/wp-content/uploads/2021/07/Cranberry-Crawl-2021-1.png
ORGANIZER;CN="Mike Glick":MAILTO:mjg@grfoodsinc.com
END:VEVENT
END:VCALENDAR